BEGIN:VCALENDAR
VERSION:2.0
PRODID:-//AVIRON CANOE-KAYAK - ECPv6.0.4//NONSGML v1.0//EN
CALSCALE:GREGORIAN
METHOD:PUBLISH
X-WR-CALNAME:AVIRON CANOE-KAYAK
X-ORIGINAL-URL:http://www.avironcanoekayak.fr
X-WR-CALDESC:évènements pour AVIRON CANOE-KAYAK
REFRESH-INTERVAL;VALUE=DURATION:PT1H
X-Robots-Tag:noindex
X-PUBLISHED-TTL:PT1H
BEGIN:VTIMEZONE
TZID:Europe/Paris
BEGIN:DAYLIGHT
TZOFFSETFROM:+0100
TZOFFSETTO:+0200
TZNAME:CEST
DTSTART:20230326T010000
END:DAYLIGHT
BEGIN:STANDARD
TZOFFSETFROM:+0200
TZOFFSETTO:+0100
TZNAME:CET
DTSTART:20231029T010000
END:STANDARD
END:VTIMEZONE
BEGIN:VEVENT
DTSTART;VALUE=DATE:20230430
DTEND;VALUE=DATE:20230501
DTSTAMP:20260421T231203
CREATED:20230412T170435Z
LAST-MODIFIED:20230412T170435Z
UID:81837-1682812800-1682899199@www.avironcanoekayak.fr
SUMMARY:Vogu'à Toul
DESCRIPTION:
URL:http://www.avironcanoekayak.fr/agenda/vogua-toul/
LOCATION:Toul
CATEGORIES:sortie loisir
END:VEVENT
END:VCALENDAR