BEGIN:VCALENDAR
VERSION:2.0
PRODID:-//AVIRON CANOE-KAYAK - ECPv6.0.4//NONSGML v1.0//EN
CALSCALE:GREGORIAN
METHOD:PUBLISH
X-WR-CALNAME:AVIRON CANOE-KAYAK
X-ORIGINAL-URL:http://www.avironcanoekayak.fr
X-WR-CALDESC:évènements pour AVIRON CANOE-KAYAK
REFRESH-INTERVAL;VALUE=DURATION:PT1H
X-Robots-Tag:noindex
X-PUBLISHED-TTL:PT1H
BEGIN:VTIMEZONE
TZID:Europe/Paris
BEGIN:DAYLIGHT
TZOFFSETFROM:+0100
TZOFFSETTO:+0200
TZNAME:CEST
DTSTART:20220327T010000
END:DAYLIGHT
BEGIN:STANDARD
TZOFFSETFROM:+0200
TZOFFSETTO:+0100
TZNAME:CET
DTSTART:20221030T010000
END:STANDARD
END:VTIMEZONE
BEGIN:VEVENT
DTSTART;TZID=Europe/Paris:20221113T093000
DTEND;TZID=Europe/Paris:20221113T113000
DTSTAMP:20260422T092244
CREATED:20221107T092348Z
LAST-MODIFIED:20221107T094324Z
UID:81685-1668331800-1668339000@www.avironcanoekayak.fr
SUMMARY:SORTIE découverte pour les "DRAGON LADIES"
DESCRIPTION:La première sortie du dragon boat à Châlons en Champagne sur la Marne pour les « dragon ladies  » aura lieu dimanche 13 novembre\, à 9h30. \nL’objectif est de faire découvrir le dragon boat\, une activité qui peut aider à mieux combattre le cancer du sein afin de constituer un véritable équipage de dragon ladies. Les sorties s’effectueront à Châlons en Champagne\, sur la Marne et occasionnellement au lac du Der avec le club de Wassy.
URL:http://www.avironcanoekayak.fr/agenda/sortie-decouverte-pour-les-dragon-ladies/
LOCATION:Centre Nautique Municipal
CATEGORIES:sortie loisir
ORGANIZER;CN="Club%20Les%20Pelles%20ch%C3%A2lonnaises":MAILTO:contact@avironcanoekayak.fr
END:VEVENT
END:VCALENDAR